BEGIN:VCALENDAR
VERSION:2.0
PRODID:-//Author Vedant Parashar - ECPv5.14.0.3//NONSGML v1.0//EN
CALSCALE:GREGORIAN
METHOD:PUBLISH
X-WR-CALNAME:Author Vedant Parashar
X-ORIGINAL-URL:https://vedantparashar.com
X-WR-CALDESC:Events for Author Vedant Parashar
REFRESH-INTERVAL;VALUE=DURATION:PT1H
X-Robots-Tag:noindex
X-PUBLISHED-TTL:PT1H
BEGIN:VTIMEZONE
TZID:UTC
BEGIN:STANDARD
TZOFFSETFROM:+0000
TZOFFSETTO:+0000
TZNAME:UTC
DTSTART:20240101T000000
END:STANDARD
END:VTIMEZONE
BEGIN:VEVENT
DTSTART;TZID=UTC:20240523T160000
DTEND;TZID=UTC:20240523T200000
DTSTAMP:20260424T132520
CREATED:20200811T095633Z
LAST-MODIFIED:20200811T095633Z
UID:7230-1716480000-1716494400@vedantparashar.com
SUMMARY:Soft Play
DESCRIPTION:Veri iudico tamquam  pericula eu sit\, an mutat summo adipiscing mel\, cu vel atqui elitr. Has feugiat veritus eu\, eum tritani labores ancillae at\, mundi homero in est. Vix at nonumy honestatis\, ne lorem facilisis pertinacia his. Eu vidissem tamquam fuisset vim\, nonumy nonumes in vix\, nam sumo tractatos et. His eu impedito im honestat. Dictas lobortis ex his\, stet ne vis. Aeque et recusabo pro eu. Mel sumo omnes vitae ex\, sit movet ed inciderint at\, scribentur deterruisset est eu.
URL:https://vedantparashar.com/event/soft-play-5/
LOCATION:Kids room No.01\, 2777 Goethals Rd N
CATEGORIES:Toddlers
ATTACH;FMTTYPE=image/jpeg:https://vedantparashar.com/wp-content/uploads/2020/05/event-img-8-1.jpg
END:VEVENT
END:VCALENDAR